BEGIN:VCALENDAR
VERSION:2.0
PRODID:-//The Vault Art Gallery - ECPv6.15.12.2//NONSGML v1.0//EN
CALSCALE:GREGORIAN
METHOD:PUBLISH
X-WR-CALNAME:The Vault Art Gallery
X-ORIGINAL-URL:https://www.thevaultgallery.com
X-WR-CALDESC:Events for The Vault Art Gallery
REFRESH-INTERVAL;VALUE=DURATION:PT1H
X-Robots-Tag:noindex
X-PUBLISHED-TTL:PT1H
BEGIN:VTIMEZONE
TZID:UTC
BEGIN:STANDARD
TZOFFSETFROM:+0000
TZOFFSETTO:+0000
TZNAME:UTC
DTSTART:20230101T000000
END:STANDARD
END:VTIMEZONE
BEGIN:VEVENT
DTSTART;TZID=UTC:20240418T193000
DTEND;TZID=UTC:20240418T230000
DTSTAMP:20260420T083356
CREATED:20190606T084320Z
LAST-MODIFIED:20240723T151750Z
UID:690-1713468600-1713481200@www.thevaultgallery.com
SUMMARY:Nest Club x Relais & Châteaux
DESCRIPTION:On April 18\, 2024\, The Vault Art Gallery was privatized for an exceptional evening organized by Nest Club\, in partnership with Relais & Châteaux. Nestled on Avenue Louise in Brussels\, the gallery transported guests into an exotic ambiance\, evoking the gentle nuances of the South of France and the Mediterranean. During this exclusive evening\, guests savored refined dishes inspired by the recipes of Relais & Châteaux chefs from the South of France\, prepared by the talented Chef Costantino Longo. His cuisine\, rooted in Mediterranean tradition\, featured a unique touch of originality\, blending French gastronomic elegance with his mastery of Mediterranean flavors. The dinner included exquisite amuse-bouches like avocado mousse\, asparagus cappuccino\, and veal tataki\, as well as signature dishes from renowned chefs Alexandre Fabris (Château de Valmer)\, Christophe Gavot (Villa Gallici)\, and Can Kurt (Villa Calvi). Guests embarked on a culinary journey through the gallery\, discovering iconic establishments of this magnificent destination while being captivated by their stories\, character\, and charm. The Vault Art Gallery\, a 530-square-meter renovated former bank branch\, showcased the exceptional talents of international artists like David DAVID\, Alain Mimouni\, and many others. Relais & Châteaux and Nest Club provided an immersive experience capturing the refined elegance of the South of France\, offering a cultural escape unlike any other. 								\n				\n				\n				\n					Buy Ticket
URL:https://www.thevaultgallery.com/event/nest-club-x-relais-chateaux/
LOCATION:Brussels\, Avenue Louise 205\, Brussels\, Brussels\, 1050\, Belgium
CATEGORIES:Private Dining Experience
ATTACH;FMTTYPE=image/jpeg:https://www.thevaultgallery.com/wp-content/uploads/2019/06/DSC07043-min-scaled.jpg
END:VEVENT
END:VCALENDAR